BEGIN:VCALENDAR
VERSION:2.0
METHOD:PUBLISH
PRODID:-//Accessible Web Design//My Calendar//http://www.joedolson.com//v//EN';
BEGIN:VEVENT
UID:3-2
LOCATION:
SUMMARY:Khareem Pope Birthday
DTSTAMP:20230308
ORGANIZER;CN=Frankie Briggs:MAILTO:Gatewaylearni267@gmail.com
DTSTART:20230308
DTEND:20230310
CATEGORIES:GLA Main Calendar
URL;VALUE=URI:http://gatewaylearningacademy.com/mc-events/khareem-pope-birthday/?mc_id=3
DESCRIPTION:
X-FUNAMBOL-ALLDAY: 1
X-MICROSOFT-CDO-ALLDAYEVENT: TRUE

END:VEVENT
END:VCALENDAR